BEGIN:VCALENDAR
VERSION:2.0
PRODID:Events Booking
BEGIN:VEVENT
UID:69e8d9717b49e
SUMMARY:MSI-Workshop: „Multispektrale Aufnahmen von Kulturgütern – das
  Unsichtbare sichtbar machen\" (Walter Nagel)
DESCRIPTION:Erfahren Sie\, wie multispektrale Bildgebung Details ans Licht 
 bringt\, die dem bloßen Auge verborgen bleiben\, von verblassten Schrifte
 n über Unterzeichnungen bis zu Materialunterschieden.
DTSTART:20250929T220000Z
DTSTAMP:20250818T133506Z
ORGANIZER;CN=ÖRV:MAILTO:office@orv.at
END:VEVENT
END:VCALENDAR