BEGIN:VCALENDAR
VERSION:2.0
PRODID:Events Booking
BEGIN:VEVENT
UID:69e78c4f10041
SUMMARY:ÖRV-Jour Fixe: Wiederentdeckte Barockmalereien in der Alserkirche
DESCRIPTION:
 Im Zuge der Sanierung der sogenannten Alserkirche (Dreifalti
 gkeitskirche der Minoriten\, geweiht 1704) wurden 2025 großformatige Fres
 ken in den Zwickelfeldern der bislang monochrom gefassten Kuppel entdeckt 
 - ein Sensationsfund mit entstehungszeitlichen Darstellungen der Evangelis
 ten. Nach einer umfangreichen Untersuchung mit zahlreichen Sondagen und Pr
 obeflächen entschied man sich für die großflächige Freilegung – imme
 rhin ca. 40m² - &nbsp\;die umgehend umgesetzt wurde. Dipl.-Restauratorin 
 Marie-Luise Reinecke stellt die Werktechnik der Malereien vor\, beleuchtet
  den kunsthistorischen Hintergrund und berichtet über die inzwischen abge
 schlossene\, anspruchsvolle restauratorische Arbeit und deren Herausforder
 ungen.
 Anmeldungen bitte bis spätestens&nbsp\;09.02.2026&nbsp\;an&nbsp\
 ;office@orv.at
 &nbsp\;
 
 
LOCATION:Alser Straße 17\, Wien\, 1080\, Österreich
DTSTART:20260212T153000Z
DTSTAMP:20260115T170847Z
ORGANIZER;CN=ÖRV:MAILTO:office@orv.at
GEO:48.214427;16.35279
X-APPLE-STRUCTURED-LOCATION;VALUE=URI;X-ADDRESS=Alser Straße 17\, Wien\, 1
 080\, Österreich;X-APPLE-RADIUS=72;X-TITLE=Alserkirche (Dreifaltigkeitski
 rche der Minoriten):48.214427;16.35279
END:VEVENT
END:VCALENDAR