BEGIN:VCALENDAR
VERSION:2.0
PRODID:Events Booking
BEGIN:VEVENT
UID:69ed4e45824c2
SUMMARY:Österreichischer Welterbetag 2025 – Führung im Großen Kassasaa
 l der Postsparkasse
DESCRIPTION:Am 18. April ist Welterbetag! Ein vielfältiges Programm an Ver
 anstaltungen und Aktionen zeigt an diesem Tag die Vielfalt und Facetten de
 s UNESCO Welterbes auf und macht die zwölf Welterbestätten in Österreic
 h erlebbar und erfahrbar. Das Institut für Konservierung und Restaurierun
 g beteiligt sich mit zwei&nbsp\;Spezialführungen zu Material und Material
 ität im Großen Kassasaal&nbsp\;der Postsparkasse\, welche Teil der Welte
 rbestätte Historisches Zentrum von Wien ist.
LOCATION:Georg-Coch-Platz 2 1010 Wien
DTSTART:20250417T220000Z
DTEND:20250417T220000Z
DTSTAMP:20250413T165752Z
ORGANIZER;CN=ÖRV:MAILTO:office@orv.at
END:VEVENT
END:VCALENDAR