BEGIN:VCALENDAR
VERSION:2.0
PRODID:Events Booking
BEGIN:VEVENT
UID:69e7665d4b135
SUMMARY:Vortrag von Architekt Rainer Kriebel: \"Weiterbauen mit Maß - Sani
 erung im historischen Kontext\"
DESCRIPTION:Bauen im Bestand oder besser \"Bauen im Welterbe\" ist eine spe
 zielle Aufgabe\, auf die sich Architekt Rainer Kriebel besonders gut verst
 eht. In Welterbestätten wie Bamberg\, Würzburg oder Bad Kissingen forder
 t das Weiterbauen eine besonders intensive Auseinandersetzung mit dem hist
 orischen Bestand!&nbsp\;
 Das Internationale Städteforum in Graz - ISG i
 st heuer 50 Jahre alt und ausgehend von seiner Gründungsgeschichte\, die 
 mit der \"Rettung der Grazer Altstadt\" verbunden ist\, ist das Bauen im B
 estand ein Thema\, das seit Einführung des Altstadtschutzes in Graz disku
 tiert wird. Die Ernennung zum UNESCO Welterbe hat dem Thema für Graz noch
  mehr Brisanz verliehen. Wie also sieht das \"Weiterbauen mit Maß und die
  Sanierung im historischen Kontext\" nach Rainer Kriebel aus? Was fügt si
 ch in eine Altstadt\, in eine Welterbestadt ein?
 Wir laden Sie herzlich 
 zu einem spannenden Vortrag ein und freuen uns auf einen geselligen Abschl
 uss!
 &nbsp\;
DTSTART:20260225T180000Z
DTSTAMP:20260218T160243Z
ORGANIZER;CN=ÖRV:MAILTO:office@orv.at
END:VEVENT
END:VCALENDAR