BEGIN:VCALENDAR
VERSION:2.0
PRODID:Events Booking
BEGIN:VEVENT
UID:69e8b135b984c
SUMMARY:Vortrag (Online): Im Regen stehen - im Depot liegen? Reinigung und 
 Aufbewahrung von Regenmänteln aus Weich-PVC
DESCRIPTION:Weich-PVC-Folien (Polyvinylchlorid) sind ein häufiger Bestandt
 eil textiler Sammlungen und stellen neue Herausforderungen dar. Aufgrund i
 hrer geringen Materialstärke und chemischen Instabilität gehören sie zu
  den empfindlichsten Kunststoffen in Museumssammlungen. Darüber hinaus ka
 nn die nicht statische dreidimensionale Form von Kleidungsstücken die Han
 dhabung und Lagerung erschweren.
 Um sich dem Umgang mit Kunststoffen im 
 textilen Kontext anzunähern\, wurden zwei Regenmäntel aus Weich-PVC des 
 Deutschen Kunststoffmuseums e.V. hinsichtlich ihrer Herstellungsweise und 
 Materialität untersucht. Im Rahmen der Masterarbeit wurden Konzepte für 
 die Reinigung und museale Aufbewahrung entwickelt. Zur Entwicklung eines R
 einigungskonzeptes wurde eine Versuchsreihe auf Basis verschiedener Messme
 thoden (u.a. FTIR-Spektroskopie und Glanzmessung) durchgeführt. Dabei wur
 den verschiedene Trocken- und Nassreinigungsmittel getestet\, die aus der 
 Restaurierungspraxis und der Fachliteratur bekannt sind. Das Konservierung
 skonzept basiert auf Recherchen in der material- und konservierungswissens
 chaftlichen Fachliteratur. Ziel der Langzeitlagerung ist es\, den weiteren
  Materialabbau zu verlangsamen\, die dreidimensionale\, flexible Form der 
 Objekte zu erhalten und ein regelmäßiges Monitoring ohne zeitaufwändige
 s und potentiell risikoreiches Handling zu ermöglichen.
LOCATION:Museumsstraße\, Mannheim\, 68165 Baden-Württemberg\, Deutschland
DTSTART:20251016T150000Z
DTSTAMP:20250413T154553Z
ORGANIZER;CN=ÖRV:MAILTO:office@orv.at
GEO:49.476662;8.496966
X-APPLE-STRUCTURED-LOCATION;VALUE=URI;X-ADDRESS=Museumsstraße\, Mannheim\,
  68165 Baden-Württemberg\, Deutschland;X-APPLE-RADIUS=72;X-TITLE=Technomu
 seum - Landesmuseum für Technik und Arbeit in Mannheim:49.476662;8.496966
END:VEVENT
END:VCALENDAR