BEGIN:VCALENDAR
VERSION:2.0
PRODID:Events Booking
BEGIN:VEVENT
UID:69ed00f82622d
SUMMARY:Vortrag (Hybrid): Lücken und Ergänzungen - Die Filmrekonstruktion
  von \"Das Donkosakenlied\" (1930)
DESCRIPTION:In Form eines Werkstattberichts stellt die Filmrestauratorin Ri
 ta Clemens (Bundesarchiv) die Restaurierung des späten Stummfilms \"Das D
 onkosakenlied\" (1930) vor. Der Entscheidungsprozess zur Rekonstruktion de
 r deutschen Fassung des Films wird erläutert und diskutiert. An diesem Be
 ispiel werden die Herausforderungen veranschaulicht\, denen sich Filmresta
 urator:innen im Umgang mit unvollständigen Filmwerken gegenübersehen.
 
 &nbsp\;
 &nbsp\;
LOCATION:Museumsstraße\, Mannheim\, 68165 Baden-Württemberg\, Deutschland
DTSTART:20250515T150000Z
DTSTAMP:20250413T153813Z
ORGANIZER;CN=ÖRV:MAILTO:office@orv.at
GEO:49.476662;8.496966
X-APPLE-STRUCTURED-LOCATION;VALUE=URI;X-ADDRESS=Museumsstraße\, Mannheim\,
  68165 Baden-Württemberg\, Deutschland;X-APPLE-RADIUS=72;X-TITLE=Technomu
 seum - Landesmuseum für Technik und Arbeit in Mannheim:49.476662;8.496966
END:VEVENT
END:VCALENDAR