BEGIN:VCALENDAR
VERSION:2.0
PRODID:Events Booking
BEGIN:VEVENT
UID:69e9064bc8b61
SUMMARY:VDR Tagung: In Sack und Tüten!? Aspekte der Sammlungspflege II –
  Verpackung von Kunst- und Kulturgut
DESCRIPTION:Tagung der Fachgruppen Kunsthandwerkliche Objekte und Präventi
 ve Konservierung&nbsp\;
 Verpacken mit Verantwortung – Erleben Sie eine
  Tagung rund um die Zukunft der Kulturgutbewahrung!
 Verpackung ist weit 
 mehr als nur Hüllen – sie ist ein essenzieller Schutz\, um Schäden von
  kunst- und kulturhistorischen Objekten abzuwenden. Auf der zweiten Fachta
 gung der&nbsp\;Reihe „Aspekte der Sammlungspflege“&nbsp\;tauchen wir t
 ief ein in das hochaktuelle Themenfeld der&nbsp\;Verpackung von Kunst- und
  Kulturgut.
DTSTART:20250917T220000Z
DTEND:20250919T220000Z
DTSTAMP:20250611T151313Z
ORGANIZER;CN=ÖRV:MAILTO:office@orv.at
END:VEVENT
END:VCALENDAR