BEGIN:VCALENDAR
VERSION:2.0
PRODID:Events Booking
BEGIN:VEVENT
UID:69ed15df085b6
SUMMARY:‍  The International Iron Gall Ink Meeting 2025: Towards Sustaina
 ble Preservation (IGI2025)
DESCRIPTION:The International Iron Gall Ink Meeting 2025: Towards Sustainab
 le Preservation (IGI2025) will occur in Portugal from May&nbsp\;7 to 9\, 2
 025. The oral and poster sessions will be held at Caparica Campus\, near L
 isbon\, on May 8 and 9&nbsp\;. On May 7&nbsp\;we have exciting workshops p
 lanned. The meeting is organized by Requimte\, the Department of Conservat
 ion &amp\; Restoration at NOVA School of Science and Technology\, the Facu
 lty of Sciences at the University of Porto\, and Instituto de Estudos Medi
 evais at NOVA School of Social Sciences and Humanities\, and Laboratório 
 José de Figueiredo.
 Salvaging Iron Gall Ink-Based Collections from Ink 
 Corrosion\, Fungal Attack\, and Climate Change: Considering the Past and t
 he Future will have the following topic- Innovative Methodologies for The 
 Preservation of Heritage Written with Iron Gall Inks- Degradation Mechanis
 ms of Iron Gall Inks- Development/Evaluation of Conservation Treatments fo
 r Iron Gall Inked Objects- Assessment Surveys of Iron Gall Inks Documents-
  Case Studies.
DTSTART:20250506T220000Z
DTEND:20250508T220000Z
DTSTAMP:20250413T162732Z
ORGANIZER;CN=ÖRV:MAILTO:office@orv.at
END:VEVENT
END:VCALENDAR