BEGIN:VCALENDAR
VERSION:2.0
PRODID:Events Booking
BEGIN:VEVENT
UID:69e84504158fe
SUMMARY:Tagung: Maximaler Erhalt!? Konservierung und Restaurierung im Spann
 ungsfeld zwischen Ethik und Ressourcen 
DESCRIPTION:Herbsttagung&nbsp\; des DMB-Arbeitskreises Konservierung / Rest
 aurierung&nbsp\; und der Staatlichen Akademie der Bildenden Künste Stuttg
 art
 In einer Zeit\, in der der Klimawandel unsere Denkweise herausforder
 t\, laden wir Sie ein mit uns während der Herbsttagung des Arbeitskreis K
 onservierung / Restaurierung in Stuttgart über die komplexen Fragen des m
 aximalen Erhalts von Museumssammlungen zu diskutieren. Ist dieser noch ger
 echtfertigt\, oder müssen wir zugunsten der Ressourcenschonung Abstriche 
 machen? Wie können wir konservatorische Standards mit dem Bedürfnis nach
  gesellschaftlicher Teilhabe und aktivem Gebrauch von Objekten in Einklang
  bringen? Lassen Sie uns gemeinsam neue Perspektiven entwickeln und nach L
 ösungen suchen\, die sowohl den Erhalt als auch Energieersparnis berücks
 ichtigen.
DTSTART:20251126T230000Z
DTEND:20251127T230000Z
DTSTAMP:20251018T070259Z
ORGANIZER;CN=ÖRV:MAILTO:office@orv.at
END:VEVENT
END:VCALENDAR