BEGIN:VCALENDAR
VERSION:2.0
PRODID:Events Booking
BEGIN:VEVENT
UID:69e81d030b7a6
SUMMARY:Tagung: Erbe erhalten\, Zukunft sichern – Neue Wege der Klimaanpa
 ssung
DESCRIPTION:Die Veranstaltung gibt einen Überblick über den bis heute erl
 angten Wissenstand zu den Auswirkungen des Klimawandels auf das kulturelle
  Erbe sowie zu Schutz- und Resilienzmaßnahmen. Besondere Aufmerksamkeit w
 ird dazu den (Zwischen-)Ergebnissen der von der DBU geförderten Projekten
  gewidmet.
 Wir wollen bestehende Forschungslücken identifizieren und ko
 nkrete Perspektiven sowie Handlungsansätze für die Bewältigung zukünft
 iger Herausforderungen entwickeln.
 &nbsp\;
DTSTART:20251207T230000Z
DTEND:20251208T230000Z
DTSTAMP:20250920T134110Z
ORGANIZER;CN=ÖRV:MAILTO:office@orv.at
END:VEVENT
END:VCALENDAR