BEGIN:VCALENDAR
VERSION:2.0
PRODID:Events Booking
BEGIN:VEVENT
UID:69e8b24f9e780
SUMMARY:Tage der Restaurierung - Was bleibt – gemeinsam bewahren 
DESCRIPTION:Vom 16. bis 19. Oktober 2025 lädt das Wien Museum zu den Tagen
  der Restaurierung und öffnet seine Türen hinter seinen Kulissen. Unter 
 dem Motto „Was bleibt – gemeinsam bewahren“ erhalten Besucher:innen 
 spannende Einblicke in die Welt der Konservierung und Restaurierung. Ob Ge
 mälde\, Textilien\, Möbel oder archäologische Funde – die Expert:inne
 n des Museums zeigen\, wie vielfältig und innovativ Restaurierungsarbeit 
 heute ist.
DTSTART:20251015T220000Z
DTEND:20251018T220000Z
DTSTAMP:20250910T142858Z
ORGANIZER;CN=ÖRV:MAILTO:office@orv.at
END:VEVENT
END:VCALENDAR