BEGIN:VCALENDAR
VERSION:2.0
PRODID:Events Booking
BEGIN:VEVENT
UID:69e8b23fe1fdf
SUMMARY:Tag der Restaurierung - Wir erhalten\, was uns bewegt
DESCRIPTION:Zum Europäischen Tag der Restaurierung gewähren wir Ihnen ein
 en ersten\, exklusiven Blick auf unsere kommende Sonderausstellung \"Im Ba
 nn der Bahn\".
DTSTART:20251018T220000Z
DTEND:20251018T220000Z
DTSTAMP:20251018T064743Z
ORGANIZER;CN=ÖRV:MAILTO:office@orv.at
END:VEVENT
END:VCALENDAR