BEGIN:VCALENDAR
VERSION:2.0
PRODID:Events Booking
BEGIN:VEVENT
UID:69ecc72d470b9
SUMMARY:Symposium: “Noble Collections of Ceramics and their History beyon
 d Fragmentation and Representation”
DESCRIPTION:The FWF PEEK Research Project BROKEN COLLECTION invites to the 
 international Symposium: NOBLE COLLECTIONS OF CERAMICS AND THEIR HISTORY B
 EYOND FRAGMENTATIONAND REPRESENTATION
LOCATION:Oskar-Kokoschka-Platz\, Wien\, 1010\, Österreich
DTSTART:20250604T220000Z
DTEND:20250605T220000Z
DTSTAMP:20250521T134122Z
ORGANIZER;CN=ÖRV:MAILTO:office@orv.at
GEO:48.208091;16.382502
X-APPLE-STRUCTURED-LOCATION;VALUE=URI;X-ADDRESS=Oskar-Kokoschka-Platz\, Wie
 n\, 1010\, Österreich;X-APPLE-RADIUS=72;X-TITLE=Universität für angewan
 dte Kunst Wien:48.208091;16.382502
END:VEVENT
END:VCALENDAR