BEGIN:VCALENDAR
VERSION:2.0
PRODID:Events Booking
BEGIN:VEVENT
UID:69e91769d3189
SUMMARY:Stone 2025
DESCRIPTION:15th International Congress on the Deterioration and Conservati
 on of Stone
 The International Congress on the Deterioration and Conserva
 tion of Stone is a quadrennial event that brings together the world-wide c
 ommunity of researchers\, managers and practitioners concerned with the co
 nservation of cultural stone structures and objects.
 &nbsp\;
 &nbsp\;
DTSTART:20250907T220000Z
DTEND:20250911T220000Z
DTSTAMP:20250412T090232Z
ORGANIZER;CN=ÖRV:MAILTO:office@orv.at
END:VEVENT
END:VCALENDAR