BEGIN:VCALENDAR
VERSION:2.0
PRODID:Events Booking
BEGIN:VEVENT
UID:69e870210864c
SUMMARY:SCHÖNBRUNNER RESTAURIERGESPRÄCHE - Öffentliche Sitzung des kultu
 rhistorisch-touristischen Beirats
DESCRIPTION:Die Schönbrunner Restauriergespräche widmen sich den prävent
 iven Maßnahmen im Schloss Schönbrunn und präsentieren die neu restaurie
 rten Highlights für das Sisi Museum. Nähere Informationen zur Veranstalt
 ung finden Sie im Anhang.
DTSTART:20251106T130000Z
DTSTAMP:20251024T164642Z
ORGANIZER;CN=ÖRV:MAILTO:office@orv.at
END:VEVENT
END:VCALENDAR