BEGIN:VCALENDAR
VERSION:2.0
PRODID:Events Booking
BEGIN:VEVENT
UID:69e9068527846
SUMMARY:SAVE THE DATE - 28. Österreichische Restaurator:innentagung für a
 rchäologische Funde 
DESCRIPTION:Weitere Informationen folgen.
DTSTART:20250916T220000Z
DTEND:20250917T220000Z
DTSTAMP:20250529T211121Z
ORGANIZER;CN=ÖRV:MAILTO:office@orv.at
END:VEVENT
END:VCALENDAR