BEGIN:VCALENDAR
VERSION:2.0
PRODID:Events Booking
BEGIN:VEVENT
UID:69e78cfcbad03
SUMMARY:PRÄSENTATION DER RESTAURIERUNGSBLÄTTER 41 mit Rahmenprogramm und 
 Umtrunk
DESCRIPTION:Das&nbsp\;Vorstandsteam des IIC Austria lädt&nbsp\;zur einer&n
 bsp\;Feier anlässlich des Erscheinens von Band 41 der&nbsp\;Restaurierung
 sblätter .&nbsp\;
 
 Programm:16 Uhr Begrüßung durch Univ.-Ass. Mag.a
 rt. Dr.phil. Johanna Runkel\, Conservation Institute\, Universität für a
 ngewandte Kunst Wien16:15 Uhr Vorstellung der Restaurierungsblätter - Pap
 ers in Conservation\, Band 4116: 30 Uhr Vortrag von Dipl.-Rest. Franziska 
 Schubert: \"Puzzle oder ewiges Fragment? Die römerzeitlichen Wandmalereif
 ragmente aus dem Liber Prater Vereinshaus in Virunum - konservatorische un
 d restauratorische Strategien\"
 17-18 Uhr Umtrunk
 Anmeldung bis späte
 stens 12.02.2026.
 Aufgrund von technischen Problemen bitten wir um nochm
 alige Anmeldung unterveranstaltung@iic-austria.org
 
DTSTART:20260213T150000Z
DTSTAMP:20260211T151048Z
ORGANIZER;CN=ÖRV:MAILTO:office@orv.at
END:VEVENT
END:VCALENDAR