BEGIN:VCALENDAR
VERSION:2.0
PRODID:Events Booking
BEGIN:VEVENT
UID:69e9421d9b90c
SUMMARY:Präsentation der Diplomarbeiten der Fachklassen Malerei auf mobile
 n Bildträgern und Wandmalerei und Architekturoberfläche
DESCRIPTION:Die Hochschule für Bildende Künste Dresden lädt herzlich zu 
 den Diplomvorträgen ein.
DTSTART:20250829T070000Z
DTEND:20250829T140000Z
DTSTAMP:20250728T132259Z
ORGANIZER;CN=ÖRV:MAILTO:office@orv.at
END:VEVENT
END:VCALENDAR