BEGIN:VCALENDAR
VERSION:2.0
PRODID:Events Booking
BEGIN:VEVENT
UID:69e87034e8ed5
SUMMARY:OPEN STUDIO DAY an der Universität für Angewandte Kunst
DESCRIPTION:Liebe Studieninteressierte!
 Wir laden euch herzlich zu unsere
 m Tag der offenen Tür\, dem&nbsp\;Open Studio Day\, am 04. November 25&nb
 sp\;ein! Entdeckt unsere vielfältigen Diplom-Studiengang Spezialisierunge
 n der Konservierung an der Universität für Angewandte Kunst Wien - Gemä
 lde\, Objekt\, Stein\, Software Conservation\, sowie Textil.
 Des Weitere
 n gibt es den Joint Master Cultural Heritage Conservation and Management 
 – die Bewerbungsfrist endet hierbei schon am&nbsp\;08. Februar 26.
 Leh
 rende und Studierende freuen sich\, euch spannende Einblicke in die kreati
 ven und technischen Arbeitsbereiche der Konservierung zu geben. Die Werkst
 ätten sind den ganzen Tag von 10 bis 18 Uhr für Besuchende geöffnet.
DTSTART:20251103T230000Z
DTSTAMP:20251024T153820Z
ORGANIZER;CN=ÖRV:MAILTO:office@orv.at
END:VEVENT
END:VCALENDAR