BEGIN:VCALENDAR
VERSION:2.0
PRODID:Events Booking
BEGIN:VEVENT
UID:69e99c1add4f0
SUMMARY:Online-Vortragreihe Denk-mal-Nach-mittag: Sonnenschutz – denkmalg
 erechte Lösungen
DESCRIPTION:Der Klimawandel erfordert ein neues Nachdenken über sommerlich
 en Wärmeschutz. Dies gilt auch für Baudenkmäler und Denkmalensembles.&n
 bsp\;
DTSTART:20250725T120000Z
DTSTAMP:20250717T162207Z
ORGANIZER;CN=ÖRV:MAILTO:office@orv.at
END:VEVENT
END:VCALENDAR