BEGIN:VCALENDAR
VERSION:2.0
PRODID:Events Booking
BEGIN:VEVENT
UID:69e8f0fe148e4
SUMMARY:Online-Vortragreihe Denk-mal-Nach-mittag: Dendrochronologie 
DESCRIPTION:Die Holzaltersdatierung (Dendrochronologie) ist eine auf naturw
 issenschaftlichen Verfahren beruhende Methode zu jahrgenauen Datierung des
  jüngsten erhaltenen Jahrrings und damit des Fälljahres eines Bauholzes.
DTSTART:20250926T120000Z
DTSTAMP:20250717T162703Z
ORGANIZER;CN=ÖRV:MAILTO:office@orv.at
END:VEVENT
END:VCALENDAR