BEGIN:VCALENDAR
VERSION:2.0
PRODID:Events Booking
BEGIN:VEVENT
UID:69e846153d51c
SUMMARY:Online-Vortrag: Zurück in die Zukunft: Wechselnde Perspektiven bei
 m Umgang mit Ergänzungen an Skulpturen und Gemälden.
DESCRIPTION:Gabriele Schwartz\, freischaffende RestauratorinZurück in die 
 Zukunft: Wechselnde Perspektiven beim Umgang mit Ergänzungen anSkulpturen
  und Gemälden.
 DenkRaum Restaurierung&nbsp\;lädt zur nächsten Online-
 Vortragsreihe ein: Dieses Mal dreht sich alles um&nbsp\;ORDNUNG SCHAFFEN:
DTSTART:20251118T161500Z
DTSTAMP:20251018T072736Z
ORGANIZER;CN=ÖRV:MAILTO:office@orv.at
END:VEVENT
END:VCALENDAR