BEGIN:VCALENDAR
VERSION:2.0
PRODID:Events Booking
BEGIN:VEVENT
UID:69e85c3550aba
SUMMARY:Online-Vortrag:  Restaurierung - Ein Versprechen zur Verbesserung? 
DESCRIPTION:Julia Feldtkeller\, freischaffende RestauratorinRestaurierung -
  Ein Versprechen zur Verbesserung?
 DenkRaum Restaurierung lädt zur näc
 hsten Online-Vortragsreihe ein: Dieses Mal dreht sich alles um ORDNUNG SCH
 AFFEN
DTSTART:20251111T161500Z
DTSTAMP:20251018T072317Z
ORGANIZER;CN=ÖRV:MAILTO:office@orv.at
END:VEVENT
END:VCALENDAR