BEGIN:VCALENDAR
VERSION:2.0
PRODID:Events Booking
BEGIN:VEVENT
UID:69e831119b540
SUMMARY:Online-Vortrag: Ordnung durch Erkenntnis. Eine Methodologie des Ver
 stehens in der Restaurierung.
DESCRIPTION:Sigrid Eyb-Green\, Akademie der bildenden Künste W ienOrdnung 
 durch Erkenntnis. Eine Methodologie des Verstehens in der Restaurierung.

  DenkRaum Restaurierung&nbsp\;lädt zur nächsten Online-Vortragsreihe ein
 : Dieses Mal dreht sich alles um&nbsp\;ORDNUNG SCHAFFEN:
DTSTART:20251202T161500Z
DTSTAMP:20251018T072902Z
ORGANIZER;CN=ÖRV:MAILTO:office@orv.at
END:VEVENT
END:VCALENDAR