BEGIN:VCALENDAR
VERSION:2.0
PRODID:Events Booking
BEGIN:VEVENT
UID:69e80b53d70bf
SUMMARY:Online-Vortrag: Das Wesen früher Konservierung und Restaurierung 
 – eine Annäherung und ihre Praxisbezüge für das archäologische Kultu
 rgut.
DESCRIPTION:Uwe Peltz\, Staatliche Museen zu BerlinDas Wesen früher Konser
 vierung und Restaurierung – eine Annäherung und ihre Praxisbezügefür 
 das archäologische Kulturgut.
 DenkRaum Restaurierung&nbsp\;lädt zur n
 ächsten Online-Vortragsreihe ein: Dieses Mal dreht sich alles um&nbsp\;OR
 DNUNG SCHAFFEN:
DTSTART:20251216T161500Z
DTSTAMP:20251018T073018Z
ORGANIZER;CN=ÖRV:MAILTO:office@orv.at
END:VEVENT
END:VCALENDAR