BEGIN:VCALENDAR
VERSION:2.0
PRODID:Events Booking
BEGIN:VEVENT
UID:69e8711daa18b
SUMMARY:Online-Tagung „Gefahrstoffe in der Archäologie und angrenzenden 
 Disziplinen\" 
DESCRIPTION:In der archäologischen Praxis begegnen Fachleute immer wieder 
 Gefahrstoffen\, die Risiken für Gesundheit oder Umwelt bergen – etwa Ka
 mpfmittel\, Asbest\, arsenhaltige Bronzen\, Belastungen in Baudenkmälern 
 oder Schadstoffe im Boden. Der richtige Umgang damit ist anspruchsvoll und
  oft fehlt es an Wissen\, Erfahrung oder gezielter Schulung. Unsere Online
 tagung am 8. November 2025 informiert über Risiken und den fachgerechten 
 Umgang mit Gefahrstoffen. Dabei beleuchten wir nicht nur die archäologisc
 he Perspektive\, sondern auch angrenzende Bereiche wie Restaurierung\, Mus
 eumsarbeit oder Osteoarchäologie.
DTSTART:20251108T090000Z
DTEND:20251108T150000Z
DTSTAMP:20251007T131037Z
ORGANIZER;CN=ÖRV:MAILTO:office@orv.at
END:VEVENT
END:VCALENDAR