BEGIN:VCALENDAR
VERSION:2.0
PRODID:Events Booking
BEGIN:VEVENT
UID:69e8321108b4e
SUMMARY:ONLINE- ÖRV Gesprächsrunde - Let's talk „museum\"
DESCRIPTION:Am 02.12.2025 startet unser neues Format&nbsp\;Let's talk „mu
 seum\"&nbsp\;– eine online Gesprächsrunde zum Austausch der Restaurator
 :innen in musealen Einrichtungen.Das erste online Treffen wird zum Thema L
 eihverkehr ( z. B. Kuriertätigkeiten\, Umsetzung und Akzeptanz der Leihvo
 rgaben) abgehalten.Wir freuen uns über eine rege Beteiligung\, einen puls
 ierenden Austausch und die aktive Förderung der Vernetzung innerhalb der 
 Kollegenschaft!
 &nbsp\;Auch Nichtmitglieder sind herzlich zur Teilnahme 
 eingeladen.
 &nbsp\;Link:https://zoom.us/j/91068278176?pwd=fWoLGXyoazFXd2
 DumOgnFApJ6iI8tP.1Meeting-ID: 910 6827 8176Kenncode: 470383
DTSTART:20251202T130000Z
DTSTAMP:20251117T155345Z
ORGANIZER;CN=ÖRV:MAILTO:office@orv.at
END:VEVENT
END:VCALENDAR