BEGIN:VCALENDAR
VERSION:2.0
PRODID:Events Booking
BEGIN:VEVENT
UID:69e844d15650f
SUMMARY:ONLINE-Klimakorridor: DACH-Austausch
DESCRIPTION:Liebe Kolleg:innen\,auch heuer haben wieder einen DACH-Austausc
 h zum Thema Museumsklima/Klimakorridor.Wir hoffen\, ihr habt Zeit\, um onl
 ine dazu zu kommen. Es gibt kein großes Programm\, wir wollen uns über d
 ie Grenzen hinweg austauschen.Wo: Zoom –&nbsp\;Hier sind die Zugangsdate
 n. Anmeldung nicht notwendig\, aber wir freuen uns trotzdem\, wenn wir wis
 sen\, wer kommt :)Also\, gerne kurz melden unter&nbsp\;info@museumsbund.at
 &nbsp\;– auch\, wenn ihr gerne etwas dort berichten wollt.Herzlich grü
 ßt namensOliver Kern\, Beate Murr &amp\; Bärbl Schrems\,Sabine Fauland
DTSTART:20251125T100000Z
DTEND:20251125T120000Z
DTSTAMP:20251117T155704Z
ORGANIZER;CN=ÖRV:MAILTO:office@orv.at
END:VEVENT
END:VCALENDAR