BEGIN:VCALENDAR
VERSION:2.0
PRODID:Events Booking
BEGIN:VEVENT
UID:69e830ca66456
SUMMARY:Online Conference: FOCUS ON CONSERVATION 2025 – ROUTES TO RESILIE
 NCE 
DESCRIPTION:Museums\, as stewards of cultural heritage\, face increasing ch
 allenges in safeguarding their collections. Changes in our physical\, soci
 etal\, and economic environments all pose risks to the preservation and co
 nservation of cultural objects and the institutions that care for them.
 
 Continuing the \"Focus on Conservation\" conference series\, this online e
 vent will explore how cultural heritage professionals and institutions can
  build resilience in the face of these pressures. The 2025 event will cent
 re on strategies and approaches that support the long-term sustainability 
 of collections\, conservation practices\, and institutions themselves.
 T
 hrough the following sessions\, participants will gain insights into the v
 arious \"Routes to Resilience.\"
 Weitere Informationen zur Konferent fin
 det ihr unter folgendem Link:ICOM-CC | FOCUS ON CONSERVATION 2025 – ROUT
 ES TO RESILIENCE Online Conference December 2025
DTSTART:20251201T230000Z
DTEND:20251204T230000Z
DTSTAMP:20251201T145034Z
ORGANIZER;CN=ÖRV:MAILTO:office@orv.at
END:VEVENT
END:VCALENDAR