BEGIN:VCALENDAR
VERSION:2.0
PRODID:Events Booking
BEGIN:VEVENT
UID:69ed504438778
SUMMARY:Österreichischer Welterbetag 2025
DESCRIPTION:Am 18. April begehen die zwölf Österreichischen Welterbestät
 ten jedes Jahr den „Österreichischen Welterbetag“. Als gemeinsamer Ak
 tionstag soll er dazu beitragen\, auf das UNESCO-Welterbe in Österreich a
 ufmerksam zu machen und Bewusstsein dafür zu schaffen\, dass es steter Be
 mühungen bedarf\, diese einzigartigen Kultur- und Naturschätze vor Verfa
 ll oder Zerstörung zu bewahren. Die zwölf Österreichischen Welterbestä
 tten möchten im Rahmen dieses Tages das Welterbe in Österreich erlebbar 
 und erfahrbar machen. Spezielle Veranstaltungen und Aktionen -vor Ort und 
 online – ermöglichen ungewohnte Blicke auf Altbekanntes\, eröffnen neu
 e Perspektiven oder vermitteln einen Eindruck von der Arbeit und den Bemü
 hungen zum Schutz und Erhalt dieser einzigartigen Orte.
DTSTART:20250417T220000Z
DTEND:20250417T220000Z
DTSTAMP:20250413T165443Z
ORGANIZER;CN=ÖRV:MAILTO:office@orv.at
END:VEVENT
END:VCALENDAR