BEGIN:VCALENDAR
VERSION:2.0
PRODID:Events Booking
BEGIN:VEVENT
UID:69e81d11df995
SUMMARY:ÖRV Vorweihnachts Special Jour Fixe: Schloss Schönbrunn: Restauri
 erung und Freilegung im Verborgenen - zwei Fallbeispiele
DESCRIPTION:Im Rahmen eines exklusiven Rundgangs hinter den Kulissen gewäh
 ren die Restaurator:innen der Schloss Schönbrunn GesmbH spannende Einblic
 ke in zwei aktuelle Projekte und öffnen Bereiche\, die sonst verborgen bl
 eiben.
 Wir danken herzlich für die Möglichkeit dieses besonderen Besuc
 hs und freuen uns auf einen anregenden fachlichen Austausch.&nbsp\;Im Ansc
 hluss bietet sich die Gelegenheit\, den Abend bei einem Punsch am Schönbr
 unner Christkindlmarkt in stimmungsvoller Atmosphäre ausklingen zu lassen
 .
 &nbsp\;Anmeldungen bitte bis spätestens&nbsp\;09.12.2025&nbsp\;an off
 ice@orv.at.
DTSTART:20251211T150000Z
DTSTAMP:20251204T171302Z
ORGANIZER;CN=ÖRV:MAILTO:office@orv.at
END:VEVENT
END:VCALENDAR