BEGIN:VCALENDAR
VERSION:2.0
PRODID:Events Booking
BEGIN:VEVENT
UID:69ecaf75d302f
SUMMARY: ÖRV-Symposium in der Stiftskirche des Benediktinerstifts Kremsmü
 nster
DESCRIPTION:„Erhaltung eine Gesamtkunstwerkes –&nbsp\;Herausforderungen
  und Lösungen bei der Generalsanierung&nbsp\;der barocken Stiftskirche de
 s Benediktinerstifts Kremsmünster“
 Die Stiftskirche Kremsmünster zä
 hlt zu den bedeutendsten barocken Sakralbauten Österreichs. Im Rahmen der
  laufenden Generalsanierung stellt die Wiederherstellung des kunsthistoris
 ch einzigartigen Innenraums eine besondere Herausforderung dar.
 Das Symp
 osium widmet sich diesem komplexen Thema und gibt spannende Einblicke in d
 enkmalpflegerische sowie restauratorische Entscheidungsprozesse. Fachleute
  diskutieren über den Umgang mit verschiedenen Kunstgattungen\, Materiali
 en und deren Alterungsprozesse sowie über die Herausforderungen bei der p
 raktischen Umsetzung.
 Den Abschluß &nbsp\;bildet die anschließende Fü
 hrung durch die historische Sternwarte des Stifts\, die faszinierende Einb
 licke in jahrhundertealte astronomische Beobachtungen und Klimaforschung b
 ietet.
 Weitere Informationen zum Programm und einer Anmeldung entnehmen 
 Sie bitte dem Flyer.
 Achtung: Anmeldeschluss&nbsp\;am 1.6.2025! &nbsp\;E
 s gibt noch wenige freie Plätze\, Anmeldung unter&nbsp\;office@orv.at&nbs
 p\;. &nbsp\;
DTSTART:20250613T083000Z
DTEND:20250613T160000Z
DTSTAMP:20250305T122315Z
ORGANIZER;CN=ÖRV:MAILTO:office@orv.at
END:VEVENT
END:VCALENDAR