BEGIN:VCALENDAR
VERSION:2.0
PRODID:Events Booking
BEGIN:VEVENT
UID:69ecee44f1d26
SUMMARY:ÖRV Jour Fixe Mai - „Wachs in seinen Händen – Daniel Neuberge
 rs Kunst der Täuschung“ 
DESCRIPTION:Der ÖRV lädt im Mai zu einer spannenden Führung durch die ak
 tuelle Sonderausstellung in der Kunstkammer des Kunsthistorischen Museums 
 ein.&nbsp\;
 Begrenzte Teilnehmerzahl!
 Anmeldung unter&nbsp\;office@orv
 .at
DTSTART:20250522T140000Z
DTSTAMP:20250412T084844Z
ORGANIZER;CN=ÖRV:MAILTO:office@orv.at
END:VEVENT
END:VCALENDAR