BEGIN:VCALENDAR
VERSION:2.0
PRODID:Events Booking
BEGIN:VEVENT
UID:69ed856fec5d7
SUMMARY:ÖRV Jour Fixe März - Einblicke in die Hofjagd- und Rüstkammer 
DESCRIPTION:Die Wiener Sammlung ist die bestdokumentierte höfische Rüstka
 mmer der abendländischen Welt\, da die Objekte durDie Wiener Sammlung ist
  die bestdokumentierte höfische Rüstkammer der abendländischen Welt\, d
 a die Objekte durchwegs im Zusammenhang mit hochpolitischen Ereignissen en
 tstanden oder in die Sammlung kamen: anlässlich von Feldzügen\, Reichsta
 gen\, Huldigungen\, Krönungen\, Verlobungen\, Hochzeiten oder Taufen.
DTSTART:20250327T160000Z
DTSTAMP:20250305T073710Z
ORGANIZER;CN=ÖRV:MAILTO:office@orv.at
END:VEVENT
END:VCALENDAR