BEGIN:VCALENDAR
VERSION:2.0
PRODID:Events Booking
BEGIN:VEVENT
UID:69e8edec24fca
SUMMARY:ÖRV Jour Fixe September „Kunst- und Haftpflichtversicherungen in
  der Restaurierung“ 
DESCRIPTION:in Kooperation mit dem Institut für Konservierung und Restauri
 erung der Angewandte
 Wir Restaurator:innen tragen tagtäglich Verantwort
 ung für einzigartige Kunst- und Kulturgüter. Doch was passiert\, wenn tr
 otz größter Sorgfalt durch Transport\, Lagerung\, Selbstverschulden o.ä
 . ein Schaden entsteht? Was decken Betriebshaftpflicht- und Kunstversicher
 ung ab und welche Versicherung greift bei welchem Schaden? Welche Vorausse
 tzungen müssen für die Abdeckung durch Versicherungen erfüllt sein?
DTSTART:20250924T140000Z
DTSTAMP:20250902T124048Z
ORGANIZER;CN=ÖRV:MAILTO:office@orv.at
END:VEVENT
END:VCALENDAR