BEGIN:VCALENDAR
VERSION:2.0
PRODID:Events Booking
BEGIN:VEVENT
UID:69ed38491ab12
SUMMARY:ÖRV Jour Fixe April – Notfallplanung im Kulturdepot St. Pölten
  
DESCRIPTION:Bei einem Besuch im Kulturdepot St. Pölten\, welches den Groß
 teil der Kunstsammlung der Landessammlungen Niederösterreich beherbergt\,
  wird das Konzept zur Notfallevakuierung prioritärer Objekte vorgestellt.
 
 Voraussichtliche Dauer 2h
 Begrenzte Teilnehmerzahl!
 Anmeldung &nbsp
 \;unter:office@orv.at
DTSTART:20250425T120000Z
DTSTAMP:20250412T074801Z
ORGANIZER;CN=ÖRV:MAILTO:office@orv.at
END:VEVENT
END:VCALENDAR