BEGIN:VCALENDAR
VERSION:2.0
PRODID:Events Booking
BEGIN:VEVENT
UID:69e89cebb35b0
SUMMARY:ÖRV Jour Fixe Oktober „Internationaler Kulturgütertransfer in 
 Österreich“
DESCRIPTION:Im Mittelpunkt stehen bei diesem JF\, der in Kooperation mit de
 m Bundesdenkmalamt im Ahnensaal in der Hofburg stattfindet\, die rechtlich
 en Rahmenbedingungen und praktischen Herausforderungen bei der Verbringung
  von Kulturgütern über die Grenzen Österreichs. Dabei werden insbesonde
 re die Bestimmungen des Denkmalschutzgesetzes zur Ein- und Ausfuhr sowie d
 eren Umsetzung im öffentlichen und privaten Leihverkehr beleuchtet.
 Anm
 eldungen bis 17.10.2025 unter office@orv.at&nbsp\;
DTSTART:20251020T140000Z
DTEND:20251020T160000Z
DTSTAMP:20250919T083116Z
ORGANIZER;CN=ÖRV:MAILTO:office@orv.at
END:VEVENT
END:VCALENDAR