BEGIN:VCALENDAR
VERSION:2.0
PRODID:Events Booking
BEGIN:VEVENT
UID:69e766c0997e8
SUMMARY:ÖRV-Gesprächsrunde - Let's talk „museum\"
DESCRIPTION:Die digitale ÖRV-Talkrunde Let’s talk&nbsp\;„museum\"&nbsp
 \;ist ein österreichweites Forum für Restaurator:innen im Museumskontext
  und versteht sich als Plattform für kollegiale Vernetzung und entspannte
 n fachlichen Exkurs. Jede/jeder von euch kann unangemeldet teilnehmen.
 D
 ieses Mal steht das Thema Öffentlichkeitsarbeit im Mittelpunkt.
 Im geme
 insamen Austausch sollen unter anderem folgende Fragen und Aspekte beleuch
 tet werden:
 
 Gibt es eine Zusammenarbeit mit der Maketing-/Presseabtei
 lung? Und wenn ja\, wie gestaltet sich diese?
 Wieviel Zeit beansprucht e
 in Pressetermin? Wie läuft die Kommunikation ab?
 Gibt es Schaurestaurie
 rungen\, Tag der offenen Tür (Atelier und Depot)?
 
 Wir freuen uns auf
  ein zahlreiches Kommen und eine offene Gesprächsrunde!
 Zoomlink:https:
 //zoom.us/j/91068278176?pwd=fWoLGXyoazFXd2DumOgnFApJ6iI8tP.1
 Kenncode: 4
 70383
DTSTART:20260223T140000Z
DTSTAMP:20260209T170630Z
ORGANIZER;CN=ÖRV:MAILTO:office@orv.at
END:VEVENT
END:VCALENDAR