BEGIN:VCALENDAR
VERSION:2.0
PRODID:Events Booking
BEGIN:VEVENT
UID:69e89c93a0ead
SUMMARY:ÖRV Generalversammlung - Save the Date!
DESCRIPTION:&nbsp\;Weitere Informationen sowie eine zeitgerechte Einladung 
 folgen.
 Eine Anmeldung ist nicht erforderlich!
 &nbsp\;
DTSTART:20251020T160000Z
DTSTAMP:20250919T104208Z
ORGANIZER;CN=ÖRV:MAILTO:office@orv.at
END:VEVENT
END:VCALENDAR