BEGIN:VCALENDAR
VERSION:2.0
PRODID:Events Booking
BEGIN:VEVENT
UID:69e8dbaaf3bf4
SUMMARY:ÖKST – 2025 Österreichischer Kunstsachverständigen Tag 2025 - 
 „KUNST IM VISIER“
DESCRIPTION:„KUNST IM VISIER“Veranstalter: Hauptverband der allgemein b
 eeideten und gerichtlich zertifizierten Sachverständigen Österreichs\,La
 ndesverband Wien\, Niederösterreich und Burgenland
DTSTART:20250929T070000Z
DTEND:20250929T150000Z
DTSTAMP:20250808T130443Z
ORGANIZER;CN=ÖRV:MAILTO:office@orv.at
END:VEVENT
END:VCALENDAR