BEGIN:VCALENDAR
VERSION:2.0
PRODID:Events Booking
BEGIN:VEVENT
UID:69e92e6b774eb
SUMMARY:METAL 2025 -  11th Interim Meeting of the ICOM-CC Metals Working Gr
 oup
DESCRIPTION:We are pleased to announce that a meeting of the international 
 metals conservation community will be held at Cardiff University in the he
 art of the Welsh capital city with hybrid access for online delegates.
 M
 etal 2025&nbsp\;will build on the traditions established during 30 years o
 f ICOM-CC Metals Working Group Interim Meetings\, whilst being independent
  for the first time. Published preprints will be available digitally for d
 elegates and as a print on demand digital volume following the meeting.
 
 The conference will take place of five full days from the 1st - 5th Septem
 ber 2025\, with a packed programme of papers\, site visits and evening eve
 nts. Pre-conference courses will be held on the 31st August and will be le
 d by specialists in the field.
 We look forward to welcoming you to Cardi
 ff!
 Further details can be found here:&nbsp\;https://www.metal2025.org
LOCATION:Colum Drive\, Cardiff\, CF10 3EU Wales\, Vereinigtes Königreich
DTSTART:20250831T220000Z
DTEND:20250904T220000Z
DTSTAMP:20250529T210107Z
ORGANIZER;CN=ÖRV:MAILTO:office@orv.at
GEO:51.491784;-3.185074
X-APPLE-STRUCTURED-LOCATION;VALUE=URI;X-ADDRESS=Colum Drive\, Cardiff\, CF1
 0 3EU Wales\, Vereinigtes Königreich;X-APPLE-RADIUS=72;X-TITLE=Cardiff Un
 iversity\, Julian Hodge Building:51.491784;-3.185074
END:VEVENT
END:VCALENDAR