BEGIN:VCALENDAR
VERSION:2.0
PRODID:Events Booking
BEGIN:VEVENT
UID:69e7e25c8a317
SUMMARY:Materiality and Color in Modernist Architecture
DESCRIPTION:Wir machen auf die Einreichung eines Abstracts für die&nbsp\;I
 nternationale Konferenz „Materialität und Farbe in der Architektur der 
 Moderne: Von der Wissenschaft zur alltäglichen Denkmalpraxis“&nbsp\;auf
 merksam\, die vom&nbsp\;7.–9. Mai 2026 in Berlin&nbsp\;stattfinden wird.
 Veranstaltet vom&nbsp\;Landesdenkmalamt Berlin\,&nbsp\;ICOMOS Deutschland\
 , der&nbsp\;TU München&nbsp\;und der&nbsp\;HfBK Dresden\, widmet sich die
  Konferenz der Bedeutung von Materialität und Farbe in der modernen Archi
 tektur. Im Mittelpunkt stehen Fragen der Oberflächenästhetik\, Restaurie
 rungsgeschichte\, Materialanalytik sowie interdisziplinäre Ansätze in de
 r denkmalpflegerischen Praxis.
 &nbsp\;
DTSTART:20260104T230000Z
DTEND:20260104T230000Z
DTSTAMP:20251212T093728Z
ORGANIZER;CN=ÖRV:MAILTO:office@orv.at
END:VEVENT
END:VCALENDAR