BEGIN:VCALENDAR
VERSION:2.0
PRODID:Events Booking
BEGIN:VEVENT
UID:69e85ad1a67f1
SUMMARY:Kunstrechtstag 2025 
DESCRIPTION:Im Rahmen der Art &amp\; Antique in der Hofburg wird am 13.11.2
 025 der Österreichische Kunstrechtstag 2025 veranstaltet.
 Weitere Infor
 mationen findet ihr im Anhang bzw. unter folgendem Link:kunstrechtstag_202
 5.pdfÖsterreichischer Kunstrechtstag
LOCATION:1010 Wien
DTSTART:20251113T100000Z
DTSTAMP:20251108T074324Z
ORGANIZER;CN=ÖRV:MAILTO:office@orv.at
END:VEVENT
END:VCALENDAR