BEGIN:VCALENDAR
VERSION:2.0
PRODID:Events Booking
BEGIN:VEVENT
UID:69e750fcdbce9
SUMMARY:Klimakorridor – Netzwerkveranstaltung: Klimawerte jenseits des 
 „Klimakorridors\". Ein Erfahrungsaustausch zu niedrigen Temperaturen im 
 Winter und sommerlicher Überhitzung.
DESCRIPTION:Die Veranstaltungsreihe zum Klimakorridor von ARC Austrian Regi
 strars\, Berufsverband Österreichischer Restauratorinnen und Restauratore
 n\, sowie Wien Museum und Museumsbund Österreich\, möchte einen offenen 
 Austausch der Klimawerte fördern. Nächstes Treffen am&nbsp\;3. März 202
 6 um 14–16 Uhr\, im Wien Museum\, Atelier A+B (3. Stock\, Zugang über H
 aupteingang).&nbsp\;
 Klimawerte jenseits des „Klimakorridors\".
 Ein 
 Erfahrungsaustausch zu niedrigen Temperaturen im Winter und sommerlicher 
 Überhitzung.
 Mit einem Input von Bauphysiker&nbsp\;Johannes Stockinger\
 , S&amp\;P energydesign e.U.\, Herzogenburg\, sowie:
 Bärbl Schrems\, Le
 iterin Ausstellungsproduktion\, Wien Museum\, WienPasqual Querner\,&nbsp\;
 IPM im Museum\, WienEleonora Weixelbaumer\, Leitung&nbsp\; Konservierung &
 amp\; Restaurierung\, Niederösterreichisches Landessammlungen\, St. Pölt
 en
DTSTART:20260303T130000Z
DTEND:20260303T150000Z
DTSTAMP:20260209T173439Z
ORGANIZER;CN=ÖRV:MAILTO:office@orv.at
END:VEVENT
END:VCALENDAR