BEGIN:VCALENDAR
VERSION:2.0
PRODID:Events Booking
BEGIN:VEVENT
UID:69ecc5e8bb1ec
SUMMARY:Klimakorridor: Annäherung in der Praxis - Netzwerkveranstaltung
DESCRIPTION:Der Klimakorridor ist ein wichtiges Instrument für ein klimafr
 eundliches Museum. Die Ideen dahinter jedoch sind nicht neu. Seit Jahrzehn
 ten werden die festgesetzten Werte hinterfragt\, und Praxisberichte bestä
 tigen die Möglichkeit eines Korridors für viele Sammlungsobjekte. Die Um
 setzung liegt jedoch bei den jeweiligen Entscheidungsträgern und an der H
 altung der Institution.
DTSTART:20250605T120000Z
DTEND:20250605T140000Z
DTSTAMP:20250525T032427Z
ORGANIZER;CN=ÖRV:MAILTO:office@orv.at
END:VEVENT
END:VCALENDAR