BEGIN:VCALENDAR
VERSION:2.0
PRODID:Events Booking
BEGIN:VEVENT
UID:69e8b2dbc4b1f
SUMMARY:Klimakorridor: Annäherung in der Praxis - Netzwerkveranstaltung
DESCRIPTION:Thema dieses Treffens:Möglichkeiten und Grenzen der Sanierung 
 historischer Gebäude in Hinblick auf Energieeffizienz (Fenstersanierung\,
  Außenbeschattung\, Isolierung usw.)
DTSTART:20251014T120000Z
DTEND:20251014T140000Z
DTSTAMP:20250728T133850Z
ORGANIZER;CN=ÖRV:MAILTO:office@orv.at
END:VEVENT
END:VCALENDAR