BEGIN:VCALENDAR
VERSION:2.0
PRODID:Events Booking
BEGIN:VEVENT
UID:69e86fbebf6e1
SUMMARY:KEK Tagung-hybrid: Originale erhalten – 10 Jahre Bundesweite Hand
 lungsempfehlungen
DESCRIPTION:Am 6. November lädt die KEK zur öffentlichen Tagung \"Origina
 le erhalten – 10 Jahre Bundesweite Handlungsempfehlungen\" in der Staats
 bibliothek zu Berlin ein. Im Zentrum der Veranstaltung stehen die kulturpo
 litischen\, strukturellen und fachlichen Entwicklungen im Bereich der bund
 esweit koordinierten Sicherung von schriftlichem Kulturgut in Archiven\, B
 ibliotheken und anderen Gedächtniseinrichtungen. Seit Veröffentlichung d
 er \"Bundesweiten Handlungsempfehlungen\" als erste sparten- und länderü
 bergreifenden Gesamtstrategie im Jahr 2015 wurden vielfach Erfolge erzielt
  – gleichzeitig stehen die Einrichtungen weiterhin vor großen Herausfor
 derungen. Daher nimmt die KEK-Tagung gezielt auch strategische Weiterentwi
 cklungen mit dem Horizont \"Originalerhalt 2035\" in den Blick.
DTSTART:20251105T230000Z
DTSTAMP:20250920T130130Z
ORGANIZER;CN=ÖRV:MAILTO:office@orv.at
END:VEVENT
END:VCALENDAR