BEGIN:VCALENDAR
VERSION:2.0
PRODID:Events Booking
BEGIN:VEVENT
UID:69e9cd8e7502f
SUMMARY:Joanna Phillips: „Kulturerbe Medienkunst: Who Cares?“
DESCRIPTION:Als jüngste Disziplin in der Konservierung-Restaurierung kämp
 ft die Medienkunstrestaurierung noch immer mit so mancher Kinderkrankheit
DTSTART:20250709T160000Z
DTEND:20250708T220000Z
DTSTAMP:20250706T042951Z
ORGANIZER;CN=ÖRV:MAILTO:office@orv.at
END:VEVENT
END:VCALENDAR