BEGIN:VCALENDAR
VERSION:2.0
PRODID:Events Booking
BEGIN:VEVENT
UID:69e831652ff73
SUMMARY:ICOMOS Austria Best Practice Award 2025 - Preisverleihung
DESCRIPTION:Am&nbsp\;Mittwoch\, 3. Dezember 2025\, wird im feierlichen Ambi
 ente des&nbsp\;Ahnensaals der Hofburg Wien&nbsp\;der&nbsp\;ICOMOS Austria 
 Best Practice Award 2025&nbsp\;verliehen. Gemeinsam mit dem&nbsp\;Bundesde
 nkmalamt (BDA)&nbsp\;zeichnet ICOMOS Austria herausragende Projekte der&nb
 sp\;Denkmalpflege und Baukultur&nbsp\;aus.
 &nbsp\;Die&nbsp\;Arbeitsgrupp
 e ICOMOS Austria Best Practice Award&nbsp\;unter der Leitung von&nbsp\;Arc
 hitekt DI Stefan Mastal&nbsp\;würdigt dabei beispielhafte Initiativen\, d
 ie Sorgfalt\, Innovation und Verantwortung bei der Erhaltung unseres gebau
 ten Erbes vereinen.
 &nbsp\;Durch den Abend führt die renommierte Archit
 ekturjournalistin&nbsp\;Franziska Leeb. Nach der&nbsp\;Begrüßung durch M
 ag.a Petra Weiss (BDA)\, DI Elias Molitschnig (BMWKMS) und ao. Univ. Prof.
  Dr. Caroline Jäger-Klein (Präsidentin ICOMOS Austria)&nbsp\;erwartet di
 e Gäste ein inspirierender Austausch mit Preisträgerinnen\, Planenden\, 
 Bauherrschaften sowie Vertreterinnen aus Forschung und Öffentlichkeit.
 
 &nbsp\;Unsere 10-köpfige Fachjury hat in verschiedenen Runden 14 nominier
 te Projekte ausgewählt\, welche in der Folge befahren wurden und aus dene
 n die drei Preise und vier Anerkennungspreise ausgelobt wurden.
 Weitere 
 Informationen findet ihr unter folgendem Link:ICOMOS Austria Best Practice
  Award
DTSTART:20251203T170000Z
DTSTAMP:20251129T152654Z
ORGANIZER;CN=ÖRV:MAILTO:office@orv.at
END:VEVENT
END:VCALENDAR