BEGIN:VCALENDAR
VERSION:2.0
PRODID:Events Booking
BEGIN:VEVENT
UID:69e79bc949544
SUMMARY:Hybrid-Veranstaltung: Graduiertentag 2026 der Fachhochschule Potsda
 m
DESCRIPTION:Studiengangsleitung Konservierung und Restaurierung der Fachhoc
 hschule Potsdam lädt zum Graduiertentag 2026 ein:
 Wir möchten Sie gern
 e auf unseren Graduiertentag aufmerksam machen\, dessen Programm Sie im An
 hang finden. Er findet in Präsenz und online am Freitag\, den 6. Februar 
 2026 statt.&nbsp\;
 Die Abschlussarbeiten sind sehr vielseitig und geben 
 Ihnen einen Eindruck davon\, mit welch unterschiedlichen Themen sich die S
 tudierenden beschäftigen. Daran möchten wir Sie gerne teilhaben lassen.
 
 Wir freuen uns darauf\, Sie persönlich oder über das Internet bei uns 
 begrüßen zu dürfen.Weitere Inforamtionen finden Sie hier:f_graduiertent
 ag_2026_02.pdf
DTSTART:20260205T230000Z
DTSTAMP:20260117T152902Z
ORGANIZER;CN=ÖRV:MAILTO:office@orv.at
END:VEVENT
END:VCALENDAR